BEGIN:VCALENDAR
VERSION:2.0
PRODID:-//YouthSpeak - ECPv6.15.17.1//NONSGML v1.0//EN
CALSCALE:GREGORIAN
METHOD:PUBLISH
X-ORIGINAL-URL:https://youthspeak.ca
X-WR-CALDESC:Events for YouthSpeak
REFRESH-INTERVAL;VALUE=DURATION:PT1H
X-Robots-Tag:noindex
X-PUBLISHED-TTL:PT1H
BEGIN:VTIMEZONE
TZID:America/Toronto
BEGIN:DAYLIGHT
TZOFFSETFROM:-0500
TZOFFSETTO:-0400
TZNAME:EDT
DTSTART:20230312T070000
END:DAYLIGHT
BEGIN:STANDARD
TZOFFSETFROM:-0400
TZOFFSETTO:-0500
TZNAME:EST
DTSTART:20231105T060000
END:STANDARD
BEGIN:DAYLIGHT
TZOFFSETFROM:-0500
TZOFFSETTO:-0400
TZNAME:EDT
DTSTART:20240310T070000
END:DAYLIGHT
BEGIN:STANDARD
TZOFFSETFROM:-0400
TZOFFSETTO:-0500
TZNAME:EST
DTSTART:20241103T060000
END:STANDARD
BEGIN:DAYLIGHT
TZOFFSETFROM:-0500
TZOFFSETTO:-0400
TZNAME:EDT
DTSTART:20250309T070000
END:DAYLIGHT
BEGIN:STANDARD
TZOFFSETFROM:-0400
TZOFFSETTO:-0500
TZNAME:EST
DTSTART:20251102T060000
END:STANDARD
END:VTIMEZONE
BEGIN:VEVENT
DTSTART;VALUE=DATE:20240904
DTEND;VALUE=DATE:20240905
DTSTAMP:20260421T113945
CREATED:20240923T135248Z
LAST-MODIFIED:20240923T135248Z
UID:7275-1725408000-1725494399@youthspeak.ca
SUMMARY:Training at Second City Toronto
DESCRIPTION:
URL:https://youthspeak.ca/event/training-at-second-city-toronto-5/
END:VEVENT
BEGIN:VEVENT
DTSTART;VALUE=DATE:20240911
DTEND;VALUE=DATE:20240912
DTSTAMP:20260421T113945
CREATED:20240923T135314Z
LAST-MODIFIED:20240923T135314Z
UID:7277-1726012800-1726099199@youthspeak.ca
SUMMARY:Training at Second City Toronto
DESCRIPTION:
URL:https://youthspeak.ca/event/training-at-second-city-toronto-6/
END:VEVENT
BEGIN:VEVENT
DTSTART;VALUE=DATE:20240918
DTEND;VALUE=DATE:20240919
DTSTAMP:20260421T113945
CREATED:20240923T135339Z
LAST-MODIFIED:20240923T135339Z
UID:7279-1726617600-1726703999@youthspeak.ca
SUMMARY:Training at Second City Toronto
DESCRIPTION:
URL:https://youthspeak.ca/event/training-at-second-city-toronto-7/
END:VEVENT
BEGIN:VEVENT
DTSTART;VALUE=DATE:20240919
DTEND;VALUE=DATE:20240920
DTSTAMP:20260421T113945
CREATED:20240923T135427Z
LAST-MODIFIED:20240923T135427Z
UID:7281-1726704000-1726790399@youthspeak.ca
SUMMARY:JVS Toronto North York
DESCRIPTION:
URL:https://youthspeak.ca/event/jvs-toronto-north-york-3/
END:VEVENT
BEGIN:VEVENT
DTSTART;VALUE=DATE:20240919
DTEND;VALUE=DATE:20240920
DTSTAMP:20260421T113945
CREATED:20241104T150607Z
LAST-MODIFIED:20241104T150607Z
UID:7503-1726704000-1726790399@youthspeak.ca
SUMMARY:JVS Toronto
DESCRIPTION:
URL:https://youthspeak.ca/event/jvs-toronto-3/
END:VEVENT
BEGIN:VEVENT
DTSTART;VALUE=DATE:20240921
DTEND;VALUE=DATE:20240922
DTSTAMP:20260421T113945
CREATED:20240923T135626Z
LAST-MODIFIED:20240923T135626Z
UID:7289-1726876800-1726963199@youthspeak.ca
SUMMARY:STRATEGIC PLANNING SESSION Second City\, Toronto
DESCRIPTION:
URL:https://youthspeak.ca/event/strategic-planning-session-second-city-toronto/
END:VEVENT
BEGIN:VEVENT
DTSTART;VALUE=DATE:20240923
DTEND;VALUE=DATE:20240924
DTSTAMP:20260421T113945
CREATED:20240923T135458Z
LAST-MODIFIED:20240923T135458Z
UID:7283-1727049600-1727135999@youthspeak.ca
SUMMARY:Yorktown Family Services
DESCRIPTION:
URL:https://youthspeak.ca/event/yorktown-family-services/
END:VEVENT
BEGIN:VEVENT
DTSTART;VALUE=DATE:20240927
DTEND;VALUE=DATE:20240928
DTSTAMP:20260421T113945
CREATED:20240923T135528Z
LAST-MODIFIED:20240923T135528Z
UID:7285-1727395200-1727481599@youthspeak.ca
SUMMARY:AY Jackson SS Toronto
DESCRIPTION:
URL:https://youthspeak.ca/event/ay-jackson-ss-toronto/
END:VEVENT
END:VCALENDAR